{
 "currentVersion": 11.5,
 "cimVersion": "3.5.0",
 "serviceDescription": "",
 "mapName": "Lite_Basemap",
 "description": "",
 "copyrightText": "",
 "supportsDynamicLayers": true,
 "layers": [
  {
   "id": 16,
   "name": "Lite Base Map",
   "parentLayerId": -1,
   "defaultVisibility": true,
   "subLayerIds": [
    0,
    761,
    762,
    766,
    769
   ],
   "minScale": 0,
   "maxScale": 0,
   "type": "Group Layer",
   "supportsDynamicLegends": false
  },
  {
   "id": 0,
   "name": "Places",
   "parentLayerId": 16,
   "defaultVisibility": true,
   "subLayerIds": [
    6,
    7,
    17,
    14
   ],
   "minScale": 0,
   "maxScale": 0,
   "type": "Group Layer",
   "supportsDynamicLegends": false
  },
  {
   "id": 6,
   "name": "City Boundary",
   "parentLayerId": 0,
   "defaultVisibility": true,
   "subLayerIds": null,
   "minScale": 0,
   "maxScale": 0,
   "type": "Feature Layer",
   "geometryType": "esriGeometryPolygon",
   "supportsDynamicLegends": true
  },
  {
   "id": 7,
   "name": "Murray_City_Mask",
   "parentLayerId": 0,
   "defaultVisibility": true,
   "subLayerIds": null,
   "minScale": 0,
   "maxScale": 0,
   "type": "Feature Layer",
   "geometryType": "esriGeometryPolygon",
   "supportsDynamicLegends": true
  },
  {
   "id": 17,
   "name": "MurrayCityPOI",
   "parentLayerId": 0,
   "defaultVisibility": true,
   "subLayerIds": null,
   "minScale": 20000,
   "maxScale": 0,
   "type": "Feature Layer",
   "geometryType": "esriGeometryPoint",
   "supportsDynamicLegends": true
  },
  {
   "id": 14,
   "name": "Fashion Place Mall Store Names",
   "parentLayerId": 0,
   "defaultVisibility": true,
   "subLayerIds": [
    735
   ],
   "minScale": 2600,
   "maxScale": 0,
   "type": "Annotation Layer",
   "geometryType": "esriGeometryPolygon",
   "supportsDynamicLegends": false
  },
  {
   "id": 735,
   "name": "Store Names",
   "parentLayerId": 14,
   "defaultVisibility": true,
   "subLayerIds": null,
   "minScale": 0,
   "maxScale": 0,
   "supportsDynamicLegends": false
  },
  {
   "id": 761,
   "name": "Railroad",
   "parentLayerId": 16,
   "defaultVisibility": true,
   "subLayerIds": [
    763,
    13,
    742,
    743,
    744
   ],
   "minScale": 0,
   "maxScale": 0,
   "type": "Group Layer",
   "supportsDynamicLegends": false
  },
  {
   "id": 763,
   "name": "Commuter Rail Stops",
   "parentLayerId": 761,
   "defaultVisibility": true,
   "subLayerIds": null,
   "minScale": 0,
   "maxScale": 0,
   "type": "Feature Layer",
   "geometryType": "esriGeometryPoint",
   "supportsDynamicLegends": true
  },
  {
   "id": 13,
   "name": "Light Rail Stops",
   "parentLayerId": 761,
   "defaultVisibility": true,
   "subLayerIds": null,
   "minScale": 20000,
   "maxScale": 0,
   "type": "Feature Layer",
   "geometryType": "esriGeometryPoint",
   "supportsDynamicLegends": true
  },
  {
   "id": 742,
   "name": "Railroad_Tracks 12,501 : 64,000",
   "parentLayerId": 761,
   "defaultVisibility": true,
   "subLayerIds": null,
   "minScale": 64000,
   "maxScale": 12501,
   "type": "Feature Layer",
   "geometryType": "esriGeometryPolyline",
   "supportsDynamicLegends": true
  },
  {
   "id": 743,
   "name": "Railroad_Tracks 3,001 : 12,501",
   "parentLayerId": 761,
   "defaultVisibility": true,
   "subLayerIds": null,
   "minScale": 12501,
   "maxScale": 3001,
   "type": "Feature Layer",
   "geometryType": "esriGeometryPolyline",
   "supportsDynamicLegends": true
  },
  {
   "id": 744,
   "name": "Railroad_Tracks 1:3,000",
   "parentLayerId": 761,
   "defaultVisibility": true,
   "subLayerIds": null,
   "minScale": 3000.0000000000005,
   "maxScale": 0,
   "type": "Feature Layer",
   "geometryType": "esriGeometryPolyline",
   "supportsDynamicLegends": true
  },
  {
   "id": 762,
   "name": "Roads & Highways",
   "parentLayerId": 16,
   "defaultVisibility": true,
   "subLayerIds": [
    764,
    375,
    765,
    8,
    397,
    398
   ],
   "minScale": 0,
   "maxScale": 0,
   "type": "Group Layer",
   "supportsDynamicLegends": false
  },
  {
   "id": 764,
   "name": "Freeway Labels",
   "parentLayerId": 762,
   "defaultVisibility": true,
   "subLayerIds": [
    2,
    3,
    4
   ],
   "minScale": 0,
   "maxScale": 0,
   "type": "Group Layer",
   "supportsDynamicLegends": false
  },
  {
   "id": 2,
   "name": "FreewayLabelPoints >= 1:15,000",
   "parentLayerId": 764,
   "defaultVisibility": true,
   "subLayerIds": null,
   "minScale": 40000,
   "maxScale": 15000,
   "type": "Feature Layer",
   "geometryType": "esriGeometryPoint",
   "supportsDynamicLegends": true
  },
  {
   "id": 3,
   "name": "FreewayLabelPoints 1:4,000 - 1:14,999",
   "parentLayerId": 764,
   "defaultVisibility": true,
   "subLayerIds": null,
   "minScale": 14999,
   "maxScale": 4000,
   "type": "Feature Layer",
   "geometryType": "esriGeometryPoint",
   "supportsDynamicLegends": true
  },
  {
   "id": 4,
   "name": "FreewayLabelPoints <= 1:3,999",
   "parentLayerId": 764,
   "defaultVisibility": true,
   "subLayerIds": null,
   "minScale": 3999,
   "maxScale": 0,
   "type": "Feature Layer",
   "geometryType": "esriGeometryPoint",
   "supportsDynamicLegends": true
  },
  {
   "id": 375,
   "name": "Road/Street Lables",
   "parentLayerId": 762,
   "defaultVisibility": true,
   "subLayerIds": null,
   "minScale": 0,
   "maxScale": 0,
   "type": "Feature Layer",
   "geometryType": "esriGeometryPolyline",
   "supportsDynamicLegends": true
  },
  {
   "id": 765,
   "name": "Parking Labels",
   "parentLayerId": 762,
   "defaultVisibility": true,
   "subLayerIds": [
    738,
    739
   ],
   "minScale": 0,
   "maxScale": 0,
   "type": "Group Layer",
   "supportsDynamicLegends": false
  },
  {
   "id": 738,
   "name": "Parking Structure Points 3,000 : 5,000",
   "parentLayerId": 765,
   "defaultVisibility": true,
   "subLayerIds": null,
   "minScale": 5000,
   "maxScale": 3000,
   "type": "Feature Layer",
   "geometryType": "esriGeometryPoint",
   "supportsDynamicLegends": true
  },
  {
   "id": 739,
   "name": "Parking Structure Points 0 : 2,999",
   "parentLayerId": 765,
   "defaultVisibility": true,
   "subLayerIds": null,
   "minScale": 2999,
   "maxScale": 0,
   "type": "Feature Layer",
   "geometryType": "esriGeometryPoint",
   "supportsDynamicLegends": true
  },
  {
   "id": 8,
   "name": "Bridge Parapets",
   "parentLayerId": 762,
   "defaultVisibility": true,
   "subLayerIds": [
    9,
    10,
    11,
    12
   ],
   "minScale": 0,
   "maxScale": 0,
   "type": "Group Layer",
   "supportsDynamicLegends": false
  },
  {
   "id": 9,
   "name": "BridgeParapets >1:8,000",
   "parentLayerId": 8,
   "defaultVisibility": true,
   "subLayerIds": null,
   "minScale": 19999,
   "maxScale": 8000,
   "type": "Feature Layer",
   "geometryType": "esriGeometryPolyline",
   "supportsDynamicLegends": true
  },
  {
   "id": 10,
   "name": "BridgeParapets >1:2,500",
   "parentLayerId": 8,
   "defaultVisibility": true,
   "subLayerIds": null,
   "minScale": 7999,
   "maxScale": 2500,
   "type": "Feature Layer",
   "geometryType": "esriGeometryPolyline",
   "supportsDynamicLegends": true
  },
  {
   "id": 11,
   "name": "BridgeParapets >1:1,000",
   "parentLayerId": 8,
   "defaultVisibility": true,
   "subLayerIds": null,
   "minScale": 2499,
   "maxScale": 1000,
   "type": "Feature Layer",
   "geometryType": "esriGeometryPolyline",
   "supportsDynamicLegends": true
  },
  {
   "id": 12,
   "name": "BridgeParapets <1:999",
   "parentLayerId": 8,
   "defaultVisibility": true,
   "subLayerIds": null,
   "minScale": 999,
   "maxScale": 0,
   "type": "Feature Layer",
   "geometryType": "esriGeometryPolyline",
   "supportsDynamicLegends": true
  },
  {
   "id": 397,
   "name": "Paved Surfaces Outline",
   "parentLayerId": 762,
   "defaultVisibility": true,
   "subLayerIds": null,
   "minScale": 0,
   "maxScale": 0,
   "type": "Feature Layer",
   "geometryType": "esriGeometryPolyline",
   "supportsDynamicLegends": true
  },
  {
   "id": 398,
   "name": "Paved_Surfaces",
   "parentLayerId": 762,
   "defaultVisibility": true,
   "subLayerIds": null,
   "minScale": 0,
   "maxScale": 0,
   "type": "Feature Layer",
   "geometryType": "esriGeometryPolygon",
   "supportsDynamicLegends": true
  },
  {
   "id": 766,
   "name": "Landuse",
   "parentLayerId": 16,
   "defaultVisibility": true,
   "subLayerIds": [
    748,
    768,
    760,
    18,
    759
   ],
   "minScale": 0,
   "maxScale": 0,
   "type": "Group Layer",
   "supportsDynamicLegends": false
  },
  {
   "id": 748,
   "name": "Water",
   "parentLayerId": 766,
   "defaultVisibility": true,
   "subLayerIds": [
    777,
    749,
    401
   ],
   "minScale": 0,
   "maxScale": 0,
   "type": "Group Layer",
   "supportsDynamicLegends": false
  },
  {
   "id": 777,
   "name": "Rivers, Creeks & Canals",
   "parentLayerId": 748,
   "defaultVisibility": true,
   "subLayerIds": null,
   "minScale": 100000,
   "maxScale": 15000,
   "type": "Feature Layer",
   "geometryType": "esriGeometryPolyline",
   "supportsDynamicLegends": true
  },
  {
   "id": 749,
   "name": "Lakes, Ponds & Rivers",
   "parentLayerId": 748,
   "defaultVisibility": true,
   "subLayerIds": null,
   "minScale": 15000,
   "maxScale": 0,
   "type": "Feature Layer",
   "geometryType": "esriGeometryPolygon",
   "supportsDynamicLegends": true
  },
  {
   "id": 401,
   "name": "Lakes & Ponds >1:15,000",
   "parentLayerId": 748,
   "defaultVisibility": true,
   "subLayerIds": null,
   "minScale": 0,
   "maxScale": 15000,
   "type": "Feature Layer",
   "geometryType": "esriGeometryPolygon",
   "supportsDynamicLegends": true
  },
  {
   "id": 768,
   "name": "Buildings",
   "parentLayerId": 766,
   "defaultVisibility": true,
   "subLayerIds": [
    782,
    378,
    379,
    380,
    771,
    740,
    741
   ],
   "minScale": 0,
   "maxScale": 0,
   "type": "Group Layer",
   "supportsDynamicLegends": false
  },
  {
   "id": 782,
   "name": "Unit Number Buildings Labels <1:700",
   "parentLayerId": 768,
   "defaultVisibility": true,
   "subLayerIds": null,
   "minScale": 700,
   "maxScale": 0,
   "type": "Feature Layer",
   "geometryType": "esriGeometryPolygon",
   "supportsDynamicLegends": true
  },
  {
   "id": 378,
   "name": "Buildings Labels <1:700",
   "parentLayerId": 768,
   "defaultVisibility": true,
   "subLayerIds": null,
   "minScale": 700,
   "maxScale": 0,
   "type": "Feature Layer",
   "geometryType": "esriGeometryPolygon",
   "supportsDynamicLegends": true
  },
  {
   "id": 379,
   "name": "Buildings Labels 1:1250 - 1:701",
   "parentLayerId": 768,
   "defaultVisibility": true,
   "subLayerIds": null,
   "minScale": 1250,
   "maxScale": 701,
   "type": "Feature Layer",
   "geometryType": "esriGeometryPolygon",
   "supportsDynamicLegends": true
  },
  {
   "id": 380,
   "name": "Buildings Labels 1:2500 - 1:1251",
   "parentLayerId": 768,
   "defaultVisibility": true,
   "subLayerIds": null,
   "minScale": 2500,
   "maxScale": 1251,
   "type": "Feature Layer",
   "geometryType": "esriGeometryPolygon",
   "supportsDynamicLegends": true
  },
  {
   "id": 771,
   "name": "Swimming Pools",
   "parentLayerId": 768,
   "defaultVisibility": true,
   "subLayerIds": null,
   "minScale": 10000,
   "maxScale": 0,
   "type": "Feature Layer",
   "geometryType": "esriGeometryPolygon",
   "supportsDynamicLegends": true
  },
  {
   "id": 740,
   "name": "DBO.Buildings",
   "parentLayerId": 768,
   "defaultVisibility": true,
   "subLayerIds": null,
   "minScale": 0,
   "maxScale": 0,
   "type": "Feature Layer",
   "geometryType": "esriGeometryPolygon",
   "supportsDynamicLegends": true
  },
  {
   "id": 741,
   "name": "Buildings",
   "parentLayerId": 768,
   "defaultVisibility": true,
   "subLayerIds": null,
   "minScale": 24000,
   "maxScale": 0,
   "type": "Feature Layer",
   "geometryType": "esriGeometryPolygon",
   "supportsDynamicLegends": true
  },
  {
   "id": 760,
   "name": "Schools",
   "parentLayerId": 766,
   "defaultVisibility": true,
   "subLayerIds": [
    517,
    518,
    519
   ],
   "minScale": 0,
   "maxScale": 0,
   "type": "Group Layer",
   "supportsDynamicLegends": false
  },
  {
   "id": 517,
   "name": "Schools_LineFeatures",
   "parentLayerId": 760,
   "defaultVisibility": true,
   "subLayerIds": null,
   "minScale": 3619.3724274015894,
   "maxScale": 0,
   "type": "Feature Layer",
   "geometryType": "esriGeometryPolyline",
   "supportsDynamicLegends": true
  },
  {
   "id": 518,
   "name": "School_Details",
   "parentLayerId": 760,
   "defaultVisibility": true,
   "subLayerIds": null,
   "minScale": 15000,
   "maxScale": 0,
   "type": "Feature Layer",
   "geometryType": "esriGeometryPolygon",
   "supportsDynamicLegends": true
  },
  {
   "id": 519,
   "name": "School_Polygon",
   "parentLayerId": 760,
   "defaultVisibility": true,
   "subLayerIds": null,
   "minScale": 0,
   "maxScale": 15000,
   "type": "Feature Layer",
   "geometryType": "esriGeometryPolygon",
   "supportsDynamicLegends": true
  },
  {
   "id": 18,
   "name": "Parks",
   "parentLayerId": 766,
   "defaultVisibility": true,
   "subLayerIds": [
    755,
    754,
    753,
    770,
    752
   ],
   "minScale": 0,
   "maxScale": 0,
   "type": "Group Layer",
   "supportsDynamicLegends": false
  },
  {
   "id": 755,
   "name": "Parks_LineFeatures",
   "parentLayerId": 18,
   "defaultVisibility": true,
   "subLayerIds": null,
   "minScale": 15000,
   "maxScale": 0,
   "type": "Feature Layer",
   "geometryType": "esriGeometryPolyline",
   "supportsDynamicLegends": true
  },
  {
   "id": 754,
   "name": "Parks_Sports",
   "parentLayerId": 18,
   "defaultVisibility": true,
   "subLayerIds": null,
   "minScale": 15000,
   "maxScale": 0,
   "type": "Feature Layer",
   "geometryType": "esriGeometryPolygon",
   "supportsDynamicLegends": true
  },
  {
   "id": 753,
   "name": "Parks_Pathways/Detail",
   "parentLayerId": 18,
   "defaultVisibility": true,
   "subLayerIds": null,
   "minScale": 15000,
   "maxScale": 0,
   "type": "Feature Layer",
   "geometryType": "esriGeometryPolygon",
   "supportsDynamicLegends": true
  },
  {
   "id": 770,
   "name": "Cemetery Polygons",
   "parentLayerId": 18,
   "defaultVisibility": true,
   "subLayerIds": null,
   "minScale": 0,
   "maxScale": 0,
   "type": "Feature Layer",
   "geometryType": "esriGeometryPolygon",
   "supportsDynamicLegends": true
  },
  {
   "id": 752,
   "name": "Parks_Polygon",
   "parentLayerId": 18,
   "defaultVisibility": true,
   "subLayerIds": null,
   "minScale": 0,
   "maxScale": 0,
   "type": "Feature Layer",
   "geometryType": "esriGeometryPolygon",
   "supportsDynamicLegends": true
  },
  {
   "id": 759,
   "name": "Golf Courses",
   "parentLayerId": 766,
   "defaultVisibility": true,
   "subLayerIds": [
    751,
    750
   ],
   "minScale": 0,
   "maxScale": 0,
   "type": "Group Layer",
   "supportsDynamicLegends": false
  },
  {
   "id": 751,
   "name": "GolfCourses_Details",
   "parentLayerId": 759,
   "defaultVisibility": true,
   "subLayerIds": null,
   "minScale": 0,
   "maxScale": 0,
   "type": "Feature Layer",
   "geometryType": "esriGeometryPolygon",
   "supportsDynamicLegends": true
  },
  {
   "id": 750,
   "name": "GolfCourse_Polygon",
   "parentLayerId": 759,
   "defaultVisibility": true,
   "subLayerIds": null,
   "minScale": 0,
   "maxScale": 0,
   "type": "Feature Layer",
   "geometryType": "esriGeometryPolygon",
   "supportsDynamicLegends": true
  },
  {
   "id": 769,
   "name": "Boundaires",
   "parentLayerId": 16,
   "defaultVisibility": true,
   "subLayerIds": [
    756,
    757,
    758
   ],
   "minScale": 0,
   "maxScale": 0,
   "type": "Group Layer",
   "supportsDynamicLegends": false
  },
  {
   "id": 756,
   "name": "Parcels",
   "parentLayerId": 769,
   "defaultVisibility": true,
   "subLayerIds": null,
   "minScale": 10000,
   "maxScale": 0,
   "type": "Feature Layer",
   "geometryType": "esriGeometryPolygon",
   "supportsDynamicLegends": true
  },
  {
   "id": 757,
   "name": "Basemap Background",
   "parentLayerId": 769,
   "defaultVisibility": true,
   "subLayerIds": null,
   "minScale": 100000,
   "maxScale": 0,
   "type": "Feature Layer",
   "geometryType": "esriGeometryPolygon",
   "supportsDynamicLegends": true
  },
  {
   "id": 758,
   "name": "City Boundary",
   "parentLayerId": 769,
   "defaultVisibility": true,
   "subLayerIds": null,
   "minScale": 0,
   "maxScale": 10000,
   "type": "Feature Layer",
   "geometryType": "esriGeometryPolygon",
   "supportsDynamicLegends": true
  }
 ],
 "tables": [],
 "spatialReference": {
  "wkid": 102100,
  "latestWkid": 3857,
  "xyTolerance": 0.001,
  "zTolerance": 0.001,
  "mTolerance": 0.001,
  "falseX": -20037700,
  "falseY": -30241100,
  "xyUnits": 10000,
  "falseZ": -100000,
  "zUnits": 10000,
  "falseM": -100000,
  "mUnits": 10000
 },
 "singleFusedMapCache": true,
 "tileInfo": {
  "rows": 256,
  "cols": 256,
  "dpi": 96,
  "format": "PNG",
  "compressionQuality": 0,
  "origin": {
   "x": -2.0037508342787E7,
   "y": 2.0037508342787E7
  },
  "spatialReference": {
   "wkid": 102100,
   "latestWkid": 3857,
   "xyTolerance": 0.001,
   "zTolerance": 0.001,
   "mTolerance": 0.001,
   "falseX": -20037700,
   "falseY": -30241100,
   "xyUnits": 1.4892314192838538E8,
   "falseZ": -100000,
   "zUnits": 10000,
   "falseM": -100000,
   "mUnits": 10000
  },
  "lods": [
   {
    "level": 0,
    "resolution": 156543.033928,
    "scale": 5.91657527591555E8
   },
   {
    "level": 1,
    "resolution": 78271.5169639999,
    "scale": 2.95828763795777E8
   },
   {
    "level": 2,
    "resolution": 39135.7584820001,
    "scale": 1.47914381897889E8
   },
   {
    "level": 3,
    "resolution": 19567.8792409999,
    "scale": 7.3957190948944E7
   },
   {
    "level": 4,
    "resolution": 9783.93962049996,
    "scale": 3.6978595474472E7
   },
   {
    "level": 5,
    "resolution": 4891.96981024998,
    "scale": 1.8489297737236E7
   },
   {
    "level": 6,
    "resolution": 2445.98490512499,
    "scale": 9244648.868618
   },
   {
    "level": 7,
    "resolution": 1222.99245256249,
    "scale": 4622324.434309
   },
   {
    "level": 8,
    "resolution": 611.49622628138,
    "scale": 2311162.217155
   },
   {
    "level": 9,
    "resolution": 305.748113140558,
    "scale": 1155581.108577
   },
   {
    "level": 10,
    "resolution": 152.874056570411,
    "scale": 577790.554289
   },
   {
    "level": 11,
    "resolution": 76.4370282850732,
    "scale": 288895.277144
   },
   {
    "level": 12,
    "resolution": 38.2185141425366,
    "scale": 144447.638572
   },
   {
    "level": 13,
    "resolution": 19.1092570712683,
    "scale": 72223.819286
   },
   {
    "level": 14,
    "resolution": 9.55462853563415,
    "scale": 36111.909643
   },
   {
    "level": 15,
    "resolution": 4.77731426794937,
    "scale": 18055.954822
   },
   {
    "level": 16,
    "resolution": 2.38865713397468,
    "scale": 9027.977411
   },
   {
    "level": 17,
    "resolution": 1.19432856685505,
    "scale": 4513.988705
   },
   {
    "level": 18,
    "resolution": 0.597164283559817,
    "scale": 2256.994353
   },
   {
    "level": 19,
    "resolution": 0.298582141647617,
    "scale": 1128.497176
   },
   {
    "level": 20,
    "resolution": 0.14929107082380833,
    "scale": 564.248588
   },
   {
    "level": 21,
    "resolution": 0.07464553541190416,
    "scale": 282.124294
   },
   {
    "level": 22,
    "resolution": 0.03732276770595208,
    "scale": 141.062147
   },
   {
    "level": 23,
    "resolution": 0.01866138385297604,
    "scale": 70.5310735
   }
  ]
 },
 "storageInfo": {
  "storageFormat": "esriMapCacheStorageModeCompactV2",
  "packetSize": 128
 },
 "initialExtent": {
  "xmin": -1.2465482708286138E7,
  "ymin": 4953314.133369788,
  "xmax": -1.2446647475066552E7,
  "ymax": 4967060.851659778,
  "spatialReference": {
   "wkid": 102100,
   "latestWkid": 3857,
   "xyTolerance": 0.001,
   "zTolerance": 0.001,
   "mTolerance": 0.001,
   "falseX": -20037700,
   "falseY": -30241100,
   "xyUnits": 10000,
   "falseZ": -100000,
   "zUnits": 10000,
   "falseM": -100000,
   "mUnits": 10000
  }
 },
 "fullExtent": {
  "xmin": -1.862547915082509E7,
  "ymin": 559824.6661817764,
  "xmax": -5816022.924919559,
  "ymax": 9231600.727545362,
  "zmin": 0,
  "zmax": 0,
  "spatialReference": {
   "wkid": 102100,
   "latestWkid": 3857,
   "xyTolerance": 0.001,
   "zTolerance": 0.001,
   "mTolerance": 0.001,
   "falseX": -20037700,
   "falseY": -30241100,
   "xyUnits": 10000,
   "falseZ": -100000,
   "zUnits": 10000,
   "falseM": -100000,
   "mUnits": 10000
  }
 },
 "datesInUnknownTimezone": false,
 "minScale": 1.8489297737236E7,
 "maxScale": 70.5310735,
 "minLOD": 5,
 "maxLOD": 23,
 "units": "esriMeters",
 "supportedImageFormatTypes": "PNG32,PNG24,PNG,JPG,DIB,TIFF,EMF,PS,PDF,GIF,SVG,SVGZ,BMP",
 "documentInfo": {
  "Title": "Map",
  "Author": "",
  "Comments": "",
  "Subject": "",
  "Category": "",
  "Version": "2.9.0",
  "AntialiasingMode": "Fast",
  "TextAntialiasingMode": "Force",
  "Keywords": ""
 },
 "supportsQueryDomains": true,
 "capabilities": "Map,Query,Data",
 "supportedQueryFormats": "JSON, geoJSON, PBF",
 "exportTilesAllowed": false,
 "referenceScale": 0.0,
 "datumTransformations": [
  {
   "geoTransforms": [
    {
     "wkid": 108190,
     "latestWkid": 108190,
     "transformForward": true,
     "name": "WGS_1984_(ITRF00)_To_NAD_1983"
    }
   ]
  },
  {
   "geoTransforms": [
    {
     "wkid": 108190,
     "latestWkid": 108190,
     "transformForward": false,
     "name": "WGS_1984_(ITRF00)_To_NAD_1983"
    }
   ]
  }
 ],
 "supportsDatumTransformation": true,
 "floorAwareMapProperties": {
  "defaultFloorFilterSettings": {
   "isEnabled": false
  }
 },
 "archivingInfo": {
  "supportsHistoricMoment": false
 },
 "supportsClipping": true,
 "supportsSpatialFilter": true,
 "supportsTimeRelation": true,
 "supportsQueryDataElements": true,
 "mapUnits": {
  "uwkid": 9001
 },
 "maxSelectionCount": 2000,
 "maxRecordCount": 2000,
 "maxImageHeight": 4096,
 "maxImageWidth": 4096,
 "supportedExtensions": ""
}
